Workbook
Name ds: #REF!
Name ds: #REF!
Name ds: #REF!
Name ds: #REF!
Name ds: #REF!
Name ds: #REF!
Name ds: #REF!
Name Rozevírací1_1: #REF!
Name Rozevírací1_1: #REF!
Name Rozevírací1_1: #REF!
Name Rozevírací1_1: #REF!
Name Rozevírací1_1: #REF!
Name Rozevírací1_1: #REF!
Name Rozevírací1_1: #REF!
Name Text1_1: #REF!
Name Text1_1: #REF!
Name Text1_1: #REF!
Name Text1_1: #REF!
Name Text1_1: #REF!
Name Text1_1: #REF!
Name Text1_1: #REF!
Name Text2_1: #REF!
Name Text2_1: #REF!
Name Text2_1: #REF!
Name Text2_1: #REF!
Name Text2_1: #REF!
Name Text2_1: #REF!
Name Text2_1: #REF!
Name Text3_1: #REF!
Name Text3_1: #REF!
Name Text3_1: #REF!
Name Text3_1: #REF!
Name Text3_1: #REF!
Name Text3_1: #REF!
Name Text3_1: #REF!
Name ty: #REF!
Name ty: #REF!
Name ty: #REF!
Name Začiarkov1_1: #REF!
Name Začiarkov1_1: #REF!
Name Začiarkov1_1: #REF!
Name Začiarkov1_1: #REF!
Name Začiarkov1_1: #REF!
Name Začiarkov1_1: #REF!
Name Začiarkov1_1: #REF!

Sheet Sumár
E4: Štipendijný program EHP Slovensko
B6: Rozpočet žiadosti o projekt
B8: Názov projektu
B9: Žiadateľ (názov organizácie)
B10: Kód výzvy | F10: EEA/EHP-SK06-IV-V-01
B12: Sumárna tabuľka - hodnoty uveďte vo formulári žiadosti o projekt
B14: Aktivity projektu | G14: ='Podrobný sumár'!N15 -> 0
B15: Riadenie projektu | G15: ='Podrobný sumár'!G25 -> 0
B16: Propagácia projektu | G16: ='Podrobný sumár'!G32 -> 0
B17: Spolu priame výdavky (PV) | G17: ='Podrobný sumár'!H35 -> 0
B18: Spolu nepriame výdavky (NV) | G18: ='Podrobný sumár'!H36 -> 0
B19: Celkové oprávnené výdavky (COV) | G19: =IF(G17+G18>100000/0.9,100000/0.9,G17+G18) -> 0
B20: Neoprávnené výdavky (XV) | G20: ='Podrobný sumár'!H38 -> 0
B21: Celkové výdavky projektu | G21: =G19+G20 -> 0
B22: Požadovaná výška projektového grantu (90% COV) | G22: =G19/100*90 -> 0
B23: Príspevok z Grantov EHP (85%) | G23: =G22*0.85 -> 0
B24: Príspevok zo štátneho rozpočtu SR (15%) | G24: =G22*0.15 -> 0
B25: Spolufinancovanie židateľa (10% COV + XV) | G25: =G21-G22 -> 0

Sheet Rozpočet žiadateľa
A1: =Sumár!F8 -> 0
A2: =Sumár!F9 -> 0
A4: Hlavné aktivity | B4: Aktivita a) | C4: Aktivita b) | D4: Aktivita c) | E4: Aktivita d) | F4: Aktivita e) | G4: Aktivita f) | H4: Aktivita g) | J4: Aktivita h) | K4: Aktivita i) | L4: Aktivita j) | M4: Aktivita k) | N4: Aklivita l) | O4: Spolu
A5: Mzdové výdavky | O5: =SUM(B5:N5) -> 0
A6: Cestovné náklady a cestovné poistenie | O6: =SUM(B6:N6) -> 0
A7: Denné náhrady/štipendium (ubytovanie, stravné, vedl. výdavky) | O7: =SUM(B7:N7) -> 0
A8: Občerstvenie | O8: =SUM(B8:N8) -> 0
A9: Prenájom konferenčných a učebných priestorov | O9: =SUM(B9:N9) -> 0
A10: Nákup kancelárskych potrieb a pomôcok | O10: =SUM(B10:N10) -> 0
A11: Nákup učebných materiálov, pomôcok, publikácií | O11: =SUM(B11:N11) -> 0
A12: Vydanie spoločných učebných materiálov, pomôcok, publikácií | O12: =SUM(B12:N12) -> 0
A13: Nákup DHM a DNM vrátane technického vybavenia učební | O13: =SUM(B13:N13) -> 0
A14: Iné | O14: =SUM(B14:N14) -> 0
A15: SPOLU: | B15: =SUM(B5:B14) -> 0 | C15: =SUM(C5:C14) -> 0 | D15: =SUM(D5:D14) -> 0 | E15: =SUM(E5:E14) -> 0 | F15: =SUM(F5:F14) -> 0 | G15: =SUM(G5:G14) -> 0 | H15: =SUM(H5:H14) -> 0 | J15: =SUM(J5:J14) -> 0 | K15: =SUM(K5:K14) -> 0 | L15: =SUM(L5:L14) -> 0 | M15: =SUM(M5:M14) -> 0 | N15: =SUM(N5:N14) -> 0 | O15: =SUM(O5:O14) -> 0
B17: Riadenie projektu - max. 10% z aktivít projektu, t. j. do | G17: =IF($O$15>100000/0.9,100000/0.9,$O$15)*0.1 -> 0
B18: Mzdové výdavky
B19: Nákup DHM a DNM
B20: Cestovné náklady a cestovné poistenie
B21: Denné náhrady/štipendium (ubytovanie, stravné, vedl. výdavky)
B22: Audit
B23: Náklady na verejné obstarávanie
B24: Iné
B25: SPOLU: | G25: =SUM(G18:G24) -> 0
B27: Propagácia projektu - max. 3% z aktivít projektu, t. j. do | G27: =IF($O$15>100000/0.9,100000/0.9,$O$15)*0.03 -> 0
B28: Informačné materiály (publikácia, brožúra, leták)
B29: Webstránka
B30: Informačné podujatia
B31: Iné
B32: SPOLU: | G32: =SUM(G28:G31) -> 0
B34: Priame výdavky (aktivity + riadenie + propagácia) | G34: =IF(IF(O15>100000/0.9,100000/0.9,O15)+IF(G25>G17,G17,G25)+IF(G32>G27,G27,G32)>100000/0.9,100000/0.9,IF(O15>100000/0.9,100000/0.9,O15)+IF(G25>G17,G17,G25)+IF(G32>G27,G27,G32)) -> 0
B35: Nepriame výdavky - max. 10% z priamych výdavkov | H35: max. | I35: =G34*0.1 -> 0
B36: Celkové oprávnené výdavky projektu | G36: =IF(G34+IF(G35>I35,I35,G35)>100000/0.9,100000/0.9,G34+IF(G35>I35,I35,G35)) -> 0
B37: Neoprávnené výdavky | G37: =IF(G25>G17,G25-G17,0)+IF(G32>G27,G32-G27,0)+IF(O15>100000/0.9,O15-100000/0.9,0)+IF(G34+G35>100000/0.9,G34+G35-100000/0.9,0)+IF(G35>I35,G35-I35,0)+IF(O15+G25+G32>100000/0.9,O15+G25+G32-100000/0.9,0) -> 0
B38: Celkové výdavky žiadateľa | G38: =G36+G37 -> 0

Sheet Rozpočet partnera 1
A1: =Sumár!F8 -> 0
A2: Názov partnera 1
A4: Hlavné aktivity | B4: Aktivita a) | C4: Aktivita b) | D4: Aktivita c) | E4: Aktivita d) | F4: Aktivita e) | G4: Aktivita f) | H4: Aktivita g) | J4: Aktivita h) | K4: Aktivita i) | L4: Aktivita j) | M4: Aktivita k) | N4: Aklivita l) | O4: Spolu
A5: Mzdové výdavky | B5: ='Budget of partner 1'!B5 -> 0 | C5: ='Budget of partner 1'!C5 -> 0 | D5: ='Budget of partner 1'!D5 -> 0 | E5: ='Budget of partner 1'!E5 -> 0 | F5: ='Budget of partner 1'!F5 -> 0 | G5: ='Budget of partner 1'!G5 -> 0 | H5: ='Budget of partner 1'!H5:I5 -> 0 | J5: ='Budget of partner 1'!J5 -> 0 | K5: ='Budget of partner 1'!K5 -> 0 | L5: ='Budget of partner 1'!L5 -> 0 | O5: =SUM(B5:N5) -> 0
A6: Cestovné náklady a cestovné poistenie | B6: ='Budget of partner 1'!B6 -> 0 | C6: ='Budget of partner 1'!C6 -> 0 | D6: ='Budget of partner 1'!D6 -> 0 | E6: ='Budget of partner 1'!E6 -> 0 | F6: ='Budget of partner 1'!F6 -> 0 | G6: ='Budget of partner 1'!G6 -> 0 | H6: ='Budget of partner 1'!H6:I6 -> 0 | J6: ='Budget of partner 1'!J6 -> 0 | K6: ='Budget of partner 1'!K6 -> 0 | L6: ='Budget of partner 1'!L6 -> 0 | M6: ='Budget of partner 1'!M6 -> 0 | N6: ='Budget of partner 1'!N6 -> 0 | O6: =SUM(B6:N6) -> 0
A7: Denné náhrady/štipendium (ubytovanie, stravné, vedl. výdavky) | B7: ='Budget of partner 1'!B7 -> 0 | C7: ='Budget of partner 1'!C7 -> 0 | D7: ='Budget of partner 1'!D7 -> 0 | E7: ='Budget of partner 1'!E7 -> 0 | F7: ='Budget of partner 1'!F7 -> 0 | G7: ='Budget of partner 1'!G7 -> 0 | H7: ='Budget of partner 1'!H7:I7 -> 0 | J7: ='Budget of partner 1'!J7 -> 0 | K7: ='Budget of partner 1'!K7 -> 0 | L7: ='Budget of partner 1'!L7 -> 0 | M7: ='Budget of partner 1'!M7 -> 0 | N7: ='Budget of partner 1'!N7 -> 0 | O7: =SUM(B7:N7) -> 0
A8: Občerstvenie | B8: ='Budget of partner 1'!B8 -> 0 | C8: ='Budget of partner 1'!C8 -> 0 | D8: ='Budget of partner 1'!D8 -> 0 | E8: ='Budget of partner 1'!E8 -> 0 | F8: ='Budget of partner 1'!F8 -> 0 | G8: ='Budget of partner 1'!G8 -> 0 | H8: ='Budget of partner 1'!H8:I8 -> 0 | J8: ='Budget of partner 1'!J8 -> 0 | K8: ='Budget of partner 1'!K8 -> 0 | L8: ='Budget of partner 1'!L8 -> 0 | O8: =SUM(B8:N8) -> 0
A9: Prenájom konferenčných a učebných priestorov | B9: ='Budget of partner 1'!B9 -> 0 | C9: ='Budget of partner 1'!C9 -> 0 | D9: ='Budget of partner 1'!D9 -> 0 | E9: ='Budget of partner 1'!E9 -> 0 | F9: ='Budget of partner 1'!F9 -> 0 | G9: ='Budget of partner 1'!G9 -> 0 | H9: ='Budget of partner 1'!H9:I9 -> 0 | J9: ='Budget of partner 1'!J9 -> 0 | K9: ='Budget of partner 1'!K9 -> 0 | L9: ='Budget of partner 1'!L9 -> 0 | O9: =SUM(B9:N9) -> 0
A10: Nákup kancelárskych potrieb a pomôcok | B10: ='Budget of partner 1'!B10 -> 0 | C10: ='Budget of partner 1'!C10 -> 0 | D10: ='Budget of partner 1'!D10 -> 0 | E10: ='Budget of partner 1'!E10 -> 0 | F10: ='Budget of partner 1'!F10 -> 0 | G10: ='Budget of partner 1'!G10 -> 0 | H10: ='Budget of partner 1'!H10:I10 -> 0 | J10: ='Budget of partner 1'!J10 -> 0 | K10: ='Budget of partner 1'!K10 -> 0 | L10: ='Budget of partner 1'!L10 -> 0 | O10: =SUM(B10:N10) -> 0
A11: Nákup učebných materiálov, pomôcok, publikácií | B11: ='Budget of partner 1'!B11 -> 0 | C11: ='Budget of partner 1'!C11 -> 0 | D11: ='Budget of partner 1'!D11 -> 0 | E11: ='Budget of partner 1'!E11 -> 0 | F11: ='Budget of partner 1'!F11 -> 0 | G11: ='Budget of partner 1'!G11 -> 0 | H11: ='Budget of partner 1'!H11:I11 -> 0 | J11: ='Budget of partner 1'!J11 -> 0 | K11: ='Budget of partner 1'!K11 -> 0 | L11: ='Budget of partner 1'!L11 -> 0 | O11: =SUM(B11:N11) -> 0
A12: Vydanie spoločných učebných materiálov, pomôcok, publikácií | B12: ='Budget of partner 1'!B12 -> 0 | C12: ='Budget of partner 1'!C12 -> 0 | D12: ='Budget of partner 1'!D12 -> 0 | E12: ='Budget of partner 1'!E12 -> 0 | F12: ='Budget of partner 1'!F12 -> 0 | G12: ='Budget of partner 1'!G12 -> 0 | H12: ='Budget of partner 1'!H12:I12 -> 0 | J12: ='Budget of partner 1'!J12 -> 0 | K12: ='Budget of partner 1'!K12 -> 0 | L12: ='Budget of partner 1'!L12 -> 0 | O12: =SUM(B12:N12) -> 0
A13: Nákup DHM a DNM vrátane technického vybavenia učební | B13: ='Budget of partner 1'!B13 -> 0 | C13: ='Budget of partner 1'!C13 -> 0 | D13: ='Budget of partner 1'!D13 -> 0 | E13: ='Budget of partner 1'!E13 -> 0 | F13: ='Budget of partner 1'!F13 -> 0 | G13: ='Budget of partner 1'!G13 -> 0 | H13: ='Budget of partner 1'!H13:I13 -> 0 | J13: ='Budget of partner 1'!J13 -> 0 | K13: ='Budget of partner 1'!K13 -> 0 | L13: ='Budget of partner 1'!L13 -> 0 | O13: =SUM(B13:N13) -> 0
A14: Iné | B14: ='Budget of partner 1'!B14 -> 0 | C14: ='Budget of partner 1'!C14 -> 0 | D14: ='Budget of partner 1'!D14 -> 0 | E14: ='Budget of partner 1'!E14 -> 0 | F14: ='Budget of partner 1'!F14 -> 0 | G14: ='Budget of partner 1'!G14 -> 0 | H14: ='Budget of partner 1'!H14:I14 -> 0 | J14: ='Budget of partner 1'!J14 -> 0 | K14: ='Budget of partner 1'!K14 -> 0 | L14: ='Budget of partner 1'!L14 -> 0 | M14: ='Budget of partner 1'!M14 -> 0 | N14: ='Budget of partner 1'!N14 -> 0 | O14: =SUM(B14:N14) -> 0
A15: SPOLU: | B15: =SUM(B5:B14) -> 0 | C15: =SUM(C5:C14) -> 0 | D15: =SUM(D5:D14) -> 0 | E15: =SUM(E5:E14) -> 0 | F15: =SUM(F5:F14) -> 0 | G15: =SUM(G5:G14) -> 0 | H15: =SUM(H5:H14) -> 0 | J15: =SUM(J5:J14) -> 0 | K15: =SUM(K5:K14) -> 0 | L15: =SUM(L5:L14) -> 0 | M15: =SUM(M5:M14) -> 0 | N15: =SUM(N5:N14) -> 0 | O15: =SUM(O5:O14) -> 0
B17: Riadenie projektu - max. 10% z aktivít projektu, t. j. do | G17: =IF($O$15>100000/0.9,100000/0.9,$O$15)*0.1 -> 0
B18: Mzdové výdavky | G18: ='Budget of partner 1'!G18 -> 0
B19: Nákup DHM a DNM | G19: ='Budget of partner 1'!G19 -> 0
B20: Cestovné náklady a cestovné poistenie | G20: ='Budget of partner 1'!G20 -> 0
B21: Denné náhrady/štipendium (ubytovanie, stravné, vedl. výdavky) | G21: ='Budget of partner 1'!G21 -> 0
B22: Audit | G22: ='Budget of partner 1'!G22 -> 0
B23: Náklady na verejné obstarávanie | G23: ='Budget of partner 1'!G23 -> 0
B24: Iné | G24: ='Budget of partner 1'!G24 -> 0
B25: SPOLU: | G25: =SUM(G18:G24) -> 0
B27: Propagácia projektu - max. 3% z aktivít projektu, t. j. do | G27: =IF($O$15>100000/0.9,100000/0.9,$O$15)*0.03 -> 0
B28: Informačné materiály (publikácia, brožúra, leták) | G28: ='Budget of partner 1'!G28 -> 0
B29: Webstránka | G29: ='Budget of partner 1'!G29 -> 0
B30: Informačné podujatia | G30: ='Budget of partner 1'!G30 -> 0
B31: Iné | G31: ='Budget of partner 1'!G31 -> 0
B32: SPOLU: | G32: =SUM(G28:G31) -> 0
B34: Priame výdavky (aktivity + riadenie + propagácia) | G34: =IF(IF(O15>100000/0.9,100000/0.9,O15)+IF(G25>G17,G17,G25)+IF(G32>G27,G27,G32)>100000/0.9,100000/0.9,IF(O15>100000/0.9,100000/0.9,O15)+IF(G25>G17,G17,G25)+IF(G32>G27,G27,G32)) -> 0
B35: Nepriame výdavky - max. 10% z priamych výdavkov | G35: ='Budget of partner 1'!G35 -> 0 | H35: max. | I35: =G34*0.1 -> 0
B36: Celkové oprávnené výdavky projektu | G36: =IF(G34+IF(G35>I35,I35,G35)>100000/0.9,100000/0.9,G34+IF(G35>I35,I35,G35)) -> 0
B37: Neoprávnené výdavky | G37: =IF(G25>G17,G25-G17,0)+IF(G32>G27,G32-G27,0)+IF(O15>100000/0.9,O15-100000/0.9,0)+IF(G34+G35>100000/0.9,G34+G35-100000/0.9,0)+IF(G35>I35,G35-I35,0)+IF(O15+G25+G32>100000/0.9,O15+G25+G32-100000/0.9,0) -> 0
B38: Celkové výdavky partnera 1 | G38: =G36+G37 -> 0

Sheet Rozpočet partnera 2
A1: =Sumár!F8 -> 0
A2: Názov partnera 2
A4: Hlavné aktivity | B4: Aktivita a) | C4: Aktivita b) | D4: Aktivita c) | E4: Aktivita d) | F4: Aktivita e) | G4: Aktivita f) | H4: Aktivita g) | J4: Aktivita h) | K4: Aktivita i) | L4: Aktivita j) | M4: Aktivita k) | N4: Aklivita l) | O4: Spolu
A5: Mzdové výdavky | B5: ='Budget of partner 2'!B5 -> 0 | C5: ='Budget of partner 2'!C5 -> 0 | D5: ='Budget of partner 2'!D5 -> 0 | E5: ='Budget of partner 2'!E5 -> 0 | F5: ='Budget of partner 2'!F5 -> 0 | G5: ='Budget of partner 2'!G5 -> 0 | H5: ='Budget of partner 2'!H5:I5 -> 0 | J5: ='Budget of partner 2'!J5 -> 0 | K5: ='Budget of partner 2'!K5 -> 0 | L5: ='Budget of partner 2'!L5 -> 0 | O5: =SUM(B5:N5) -> 0
A6: Cestovné náklady a cestovné poistenie | B6: ='Budget of partner 2'!B6 -> 0 | C6: ='Budget of partner 2'!C6 -> 0 | D6: ='Budget of partner 2'!D6 -> 0 | E6: ='Budget of partner 2'!E6 -> 0 | F6: ='Budget of partner 2'!F6 -> 0 | G6: ='Budget of partner 2'!G6 -> 0 | H6: ='Budget of partner 2'!H6:I6 -> 0 | J6: ='Budget of partner 2'!J6 -> 0 | K6: ='Budget of partner 2'!K6 -> 0 | L6: ='Budget of partner 2'!L6 -> 0 | M6: ='Budget of partner 2'!M6 -> 0 | N6: ='Budget of partner 2'!N6 -> 0 | O6: =SUM(B6:N6) -> 0
A7: Denné náhrady/štipendium (ubytovanie, stravné, vedl. výdavky) | B7: ='Budget of partner 2'!B7 -> 0 | C7: ='Budget of partner 2'!C7 -> 0 | D7: ='Budget of partner 2'!D7 -> 0 | E7: ='Budget of partner 2'!E7 -> 0 | F7: ='Budget of partner 2'!F7 -> 0 | G7: ='Budget of partner 2'!G7 -> 0 | H7: ='Budget of partner 2'!H7:I7 -> 0 | J7: ='Budget of partner 2'!J7 -> 0 | K7: ='Budget of partner 2'!K7 -> 0 | L7: ='Budget of partner 2'!L7 -> 0 | M7: ='Budget of partner 2'!M7 -> 0 | N7: ='Budget of partner 2'!N7 -> 0 | O7: =SUM(B7:N7) -> 0
A8: Občerstvenie | B8: ='Budget of partner 2'!B8 -> 0 | C8: ='Budget of partner 2'!C8 -> 0 | D8: ='Budget of partner 2'!D8 -> 0 | E8: ='Budget of partner 2'!E8 -> 0 | F8: ='Budget of partner 2'!F8 -> 0 | G8: ='Budget of partner 2'!G8 -> 0 | H8: ='Budget of partner 2'!H8:I8 -> 0 | J8: ='Budget of partner 2'!J8 -> 0 | K8: ='Budget of partner 2'!K8 -> 0 | L8: ='Budget of partner 2'!L8 -> 0 | O8: =SUM(B8:N8) -> 0
A9: Prenájom konferenčných a učebných priestorov | B9: ='Budget of partner 2'!B9 -> 0 | C9: ='Budget of partner 2'!C9 -> 0 | D9: ='Budget of partner 2'!D9 -> 0 | E9: ='Budget of partner 2'!E9 -> 0 | F9: ='Budget of partner 2'!F9 -> 0 | G9: ='Budget of partner 2'!G9 -> 0 | H9: ='Budget of partner 2'!H9:I9 -> 0 | J9: ='Budget of partner 2'!J9 -> 0 | K9: ='Budget of partner 2'!K9 -> 0 | L9: ='Budget of partner 2'!L9 -> 0 | O9: =SUM(B9:N9) -> 0
A10: Nákup kancelárskych potrieb a pomôcok | B10: ='Budget of partner 2'!B10 -> 0 | C10: ='Budget of partner 2'!C10 -> 0 | D10: ='Budget of partner 2'!D10 -> 0 | E10: ='Budget of partner 2'!E10 -> 0 | F10: ='Budget of partner 2'!F10 -> 0 | G10: ='Budget of partner 2'!G10 -> 0 | H10: ='Budget of partner 2'!H10:I10 -> 0 | J10: ='Budget of partner 2'!J10 -> 0 | K10: ='Budget of partner 2'!K10 -> 0 | L10: ='Budget of partner 2'!L10 -> 0 | O10: =SUM(B10:N10) -> 0
A11: Nákup učebných materiálov, pomôcok, publikácií | B11: ='Budget of partner 2'!B11 -> 0 | C11: ='Budget of partner 2'!C11 -> 0 | D11: ='Budget of partner 2'!D11 -> 0 | E11: ='Budget of partner 2'!E11 -> 0 | F11: ='Budget of partner 2'!F11 -> 0 | G11: ='Budget of partner 2'!G11 -> 0 | H11: ='Budget of partner 2'!H11:I11 -> 0 | J11: ='Budget of partner 2'!J11 -> 0 | K11: ='Budget of partner 2'!K11 -> 0 | L11: ='Budget of partner 2'!L11 -> 0 | O11: =SUM(B11:N11) -> 0
A12: Vydanie spoločných učebných materiálov, pomôcok, publikácií | B12: ='Budget of partner 2'!B12 -> 0 | C12: ='Budget of partner 2'!C12 -> 0 | D12: ='Budget of partner 2'!D12 -> 0 | E12: ='Budget of partner 2'!E12 -> 0 | F12: ='Budget of partner 2'!F12 -> 0 | G12: ='Budget of partner 2'!G12 -> 0 | H12: ='Budget of partner 2'!H12:I12 -> 0 | J12: ='Budget of partner 2'!J12 -> 0 | K12: ='Budget of partner 2'!K12 -> 0 | L12: ='Budget of partner 2'!L12 -> 0 | O12: =SUM(B12:N12) -> 0
A13: Nákup DHM a DNM vrátane technického vybavenia učební | B13: ='Budget of partner 2'!B13 -> 0 | C13: ='Budget of partner 2'!C13 -> 0 | D13: ='Budget of partner 2'!D13 -> 0 | E13: ='Budget of partner 2'!E13 -> 0 | F13: ='Budget of partner 2'!F13 -> 0 | G13: ='Budget of partner 2'!G13 -> 0 | H13: ='Budget of partner 2'!H13:I13 -> 0 | J13: ='Budget of partner 2'!J13 -> 0 | K13: ='Budget of partner 2'!K13 -> 0 | L13: ='Budget of partner 2'!L13 -> 0 | O13: =SUM(B13:N13) -> 0
A14: Iné | B14: ='Budget of partner 2'!B14 -> 0 | C14: ='Budget of partner 2'!C14 -> 0 | D14: ='Budget of partner 2'!D14 -> 0 | E14: ='Budget of partner 2'!E14 -> 0 | F14: ='Budget of partner 2'!F14 -> 0 | G14: ='Budget of partner 2'!G14 -> 0 | H14: ='Budget of partner 2'!H14:I14 -> 0 | J14: ='Budget of partner 2'!J14 -> 0 | K14: ='Budget of partner 2'!K14 -> 0 | L14: ='Budget of partner 2'!L14 -> 0 | M14: ='Budget of partner 2'!M14 -> 0 | N14: ='Budget of partner 2'!N14 -> 0 | O14: =SUM(B14:N14) -> 0
A15: SPOLU: | B15: =SUM(B5:B14) -> 0 | C15: =SUM(C5:C14) -> 0 | D15: =SUM(D5:D14) -> 0 | E15: =SUM(E5:E14) -> 0 | F15: =SUM(F5:F14) -> 0 | G15: =SUM(G5:G14) -> 0 | H15: =SUM(H5:H14) -> 0 | J15: =SUM(J5:J14) -> 0 | K15: =SUM(K5:K14) -> 0 | L15: =SUM(L5:L14) -> 0 | M15: =SUM(M5:M14) -> 0 | N15: =SUM(N5:N14) -> 0 | O15: =SUM(O5:O14) -> 0
B17: Riadenie projektu - max. 10% z aktivít projektu, t. j. do | G17: =IF($O$15>100000/0.9,100000/0.9,$O$15)*0.1 -> 0
B18: Mzdové výdavky | G18: ='Budget of partner 2'!G18 -> 0
B19: Nákup DHM a DNM | G19: ='Budget of partner 2'!G19 -> 0
B20: Cestovné náklady a cestovné poistenie | G20: ='Budget of partner 2'!G20 -> 0
B21: Denné náhrady/štipendium (ubytovanie, stravné, vedl. výdavky) | G21: ='Budget of partner 2'!G21 -> 0
B22: Audit | G22: ='Budget of partner 2'!G22 -> 0
B23: Náklady na verejné obstarávanie | G23: ='Budget of partner 2'!G23 -> 0
B24: Iné | G24: ='Budget of partner 2'!G24 -> 0
B25: SPOLU: | G25: =SUM(G18:G24) -> 0
B27: Propagácia projektu - max. 3% z aktivít projektu, t. j. do | G27: =IF($O$15>100000/0.9,100000/0.9,$O$15)*0.03 -> 0
B28: Informačné materiály (publikácia, brožúra, leták) | G28: ='Budget of partner 2'!G28 -> 0
B29: Webstránka | G29: ='Budget of partner 2'!G29 -> 0
B30: Informačné podujatia | G30: ='Budget of partner 2'!G30 -> 0
B31: Iné | G31: ='Budget of partner 2'!G31 -> 0
B32: SPOLU: | G32: =SUM(G28:G31) -> 0
B34: Priame výdavky (aktivity + riadenie + propagácia) | G34: =IF(IF(O15>100000/0.9,100000/0.9,O15)+IF(G25>G17,G17,G25)+IF(G32>G27,G27,G32)>100000/0.9,100000/0.9,IF(O15>100000/0.9,100000/0.9,O15)+IF(G25>G17,G17,G25)+IF(G32>G27,G27,G32)) -> 0
B35: Nepriame výdavky - max. 10% z priamych výdavkov | G35: ='Budget of partner 2'!G35 -> 0 | H35: max. | I35: =G34*0.1 -> 0
B36: Celkové oprávnené výdavky projektu | G36: =IF(G34+IF(G35>I35,I35,G35)>100000/0.9,100000/0.9,G34+IF(G35>I35,I35,G35)) -> 0
B37: Neoprávnené výdavky | G37: =IF(G25>G17,G25-G17,0)+IF(G32>G27,G32-G27,0)+IF(O15>100000/0.9,O15-100000/0.9,0)+IF(G34+G35>100000/0.9,G34+G35-100000/0.9,0)+IF(G35>I35,G35-I35,0)+IF(O15+G25+G32>100000/0.9,O15+G25+G32-100000/0.9,0) -> 0
B38: Celkové výdavky partnera 2 | G38: =G36+G37 -> 0

Sheet Podrobný sumár
A1: =Sumár!F8 -> 0
A2: =Sumár!F9 -> 0
A4: Hlavné aktivity | B4: Aktivita a) | C4: Aktivita b) | D4: Aktivita c) | E4: Aktivita d) | F4: Aktivita e) | G4: Aktivita f) | H4: Aktivita g) | I4: Aktivita h) | J4: Aktivita i) | K4: Aktivita j) | L4: Aktivita k) | M4: Aklivita l) | N4: Spolu
A5: Mzdové výdavky | B5: ='Rozpočet žiadateľa'!B5+'Rozpočet partnera 1'!B5+'Rozpočet partnera 2'!B5 -> 0 | C5: ='Rozpočet žiadateľa'!C5+'Rozpočet partnera 1'!C5+'Rozpočet partnera 2'!C5 -> 0 | D5: ='Rozpočet žiadateľa'!D5+'Rozpočet partnera 1'!D5+'Rozpočet partnera 2'!D5 -> 0 | E5: ='Rozpočet žiadateľa'!E5+'Rozpočet partnera 1'!E5+'Rozpočet partnera 2'!E5 -> 0 | F5: ='Rozpočet žiadateľa'!F5+'Rozpočet partnera 1'!F5+'Rozpočet partnera 2'!F5 -> 0 | G5: ='Rozpočet žiadateľa'!G5+'Rozpočet partnera 1'!G5+'Rozpočet partnera 2'!G5 -> 0 | H5: ='Rozpočet žiadateľa'!H5+'Rozpočet partnera 1'!H5+'Rozpočet partnera 2'!H5 -> 0 | I5: ='Rozpočet žiadateľa'!J5+'Rozpočet partnera 1'!J5+'Rozpočet partnera 2'!J5 -> 0 | J5: ='Rozpočet žiadateľa'!K5+'Rozpočet partnera 1'!K5+'Rozpočet partnera 2'!K5 -> 0 | K5: ='Rozpočet žiadateľa'!L5+'Rozpočet partnera 1'!L5+'Rozpočet partnera 2'!L5 -> 0 | N5: =SUM(B5:M5) -> 0
A6: Cestovné náklady a cestovné poistenie | B6: ='Rozpočet žiadateľa'!B6+'Rozpočet partnera 1'!B6+'Rozpočet partnera 2'!B6 -> 0 | C6: ='Rozpočet žiadateľa'!C6+'Rozpočet partnera 1'!C6+'Rozpočet partnera 2'!C6 -> 0 | D6: ='Rozpočet žiadateľa'!D6+'Rozpočet partnera 1'!D6+'Rozpočet partnera 2'!D6 -> 0 | E6: ='Rozpočet žiadateľa'!E6+'Rozpočet partnera 1'!E6+'Rozpočet partnera 2'!E6 -> 0 | F6: ='Rozpočet žiadateľa'!F6+'Rozpočet partnera 1'!F6+'Rozpočet partnera 2'!F6 -> 0 | G6: ='Rozpočet žiadateľa'!G6+'Rozpočet partnera 1'!G6+'Rozpočet partnera 2'!G6 -> 0 | H6: ='Rozpočet žiadateľa'!H6+'Rozpočet partnera 1'!H6+'Rozpočet partnera 2'!H6 -> 0 | I6: ='Rozpočet žiadateľa'!J6+'Rozpočet partnera 1'!J6+'Rozpočet partnera 2'!J6 -> 0 | J6: ='Rozpočet žiadateľa'!K6+'Rozpočet partnera 1'!K6+'Rozpočet partnera 2'!K6 -> 0 | K6: ='Rozpočet žiadateľa'!L6+'Rozpočet partnera 1'!L6+'Rozpočet partnera 2'!L6 -> 0 | L6: ='Rozpočet žiadateľa'!M6+'Rozpočet partnera 1'!M6+'Rozpočet partnera 2'!M6 -> 0 | M6: ='Rozpočet žiadateľa'!N6+'Rozpočet partnera 1'!N6+'Rozpočet partnera 2'!N6 -> 0 | N6: =SUM(B6:M6) -> 0
A7: Denné náhrady/štipendium (ubytovanie, stravné, vedl. výdavky) | B7: ='Rozpočet žiadateľa'!B7+'Rozpočet partnera 1'!B7+'Rozpočet partnera 2'!B7 -> 0 | C7: ='Rozpočet žiadateľa'!C7+'Rozpočet partnera 1'!C7+'Rozpočet partnera 2'!C7 -> 0 | D7: ='Rozpočet žiadateľa'!D7+'Rozpočet partnera 1'!D7+'Rozpočet partnera 2'!D7 -> 0 | E7: ='Rozpočet žiadateľa'!E7+'Rozpočet partnera 1'!E7+'Rozpočet partnera 2'!E7 -> 0 | F7: ='Rozpočet žiadateľa'!F7+'Rozpočet partnera 1'!F7+'Rozpočet partnera 2'!F7 -> 0 | G7: ='Rozpočet žiadateľa'!G7+'Rozpočet partnera 1'!G7+'Rozpočet partnera 2'!G7 -> 0 | H7: ='Rozpočet žiadateľa'!H7+'Rozpočet partnera 1'!H7+'Rozpočet partnera 2'!H7 -> 0 | I7: ='Rozpočet žiadateľa'!J7+'Rozpočet partnera 1'!J7+'Rozpočet partnera 2'!J7 -> 0 | J7: ='Rozpočet žiadateľa'!K7+'Rozpočet partnera 1'!K7+'Rozpočet partnera 2'!K7 -> 0 | K7: ='Rozpočet žiadateľa'!L7+'Rozpočet partnera 1'!L7+'Rozpočet partnera 2'!L7 -> 0 | L7: ='Rozpočet žiadateľa'!M7+'Rozpočet partnera 1'!M7+'Rozpočet partnera 2'!M7 -> 0 | M7: ='Rozpočet žiadateľa'!N7+'Rozpočet partnera 1'!N7+'Rozpočet partnera 2'!N7 -> 0 | N7: =SUM(B7:M7) -> 0
A8: Občerstvenie | B8: ='Rozpočet žiadateľa'!B8+'Rozpočet partnera 1'!B8+'Rozpočet partnera 2'!B8 -> 0 | C8: ='Rozpočet žiadateľa'!C8+'Rozpočet partnera 1'!C8+'Rozpočet partnera 2'!C8 -> 0 | D8: ='Rozpočet žiadateľa'!D8+'Rozpočet partnera 1'!D8+'Rozpočet partnera 2'!D8 -> 0 | E8: ='Rozpočet žiadateľa'!E8+'Rozpočet partnera 1'!E8+'Rozpočet partnera 2'!E8 -> 0 | F8: ='Rozpočet žiadateľa'!F8+'Rozpočet partnera 1'!F8+'Rozpočet partnera 2'!F8 -> 0 | G8: ='Rozpočet žiadateľa'!G8+'Rozpočet partnera 1'!G8+'Rozpočet partnera 2'!G8 -> 0 | H8: ='Rozpočet žiadateľa'!H8+'Rozpočet partnera 1'!H8+'Rozpočet partnera 2'!H8 -> 0 | I8: ='Rozpočet žiadateľa'!J8+'Rozpočet partnera 1'!J8+'Rozpočet partnera 2'!J8 -> 0 | J8: ='Rozpočet žiadateľa'!K8+'Rozpočet partnera 1'!K8+'Rozpočet partnera 2'!K8 -> 0 | K8: ='Rozpočet žiadateľa'!L8+'Rozpočet partnera 1'!L8+'Rozpočet partnera 2'!L8 -> 0 | N8: =SUM(B8:M8) -> 0
A9: Prenájom konferenčných a učebných priestorov | B9: ='Rozpočet žiadateľa'!B9+'Rozpočet partnera 1'!B9+'Rozpočet partnera 2'!B9 -> 0 | C9: ='Rozpočet žiadateľa'!C9+'Rozpočet partnera 1'!C9+'Rozpočet partnera 2'!C9 -> 0 | D9: ='Rozpočet žiadateľa'!D9+'Rozpočet partnera 1'!D9+'Rozpočet partnera 2'!D9 -> 0 | E9: ='Rozpočet žiadateľa'!E9+'Rozpočet partnera 1'!E9+'Rozpočet partnera 2'!E9 -> 0 | F9: ='Rozpočet žiadateľa'!F9+'Rozpočet partnera 1'!F9+'Rozpočet partnera 2'!F9 -> 0 | G9: ='Rozpočet žiadateľa'!G9+'Rozpočet partnera 1'!G9+'Rozpočet partnera 2'!G9 -> 0 | H9: ='Rozpočet žiadateľa'!H9+'Rozpočet partnera 1'!H9+'Rozpočet partnera 2'!H9 -> 0 | I9: ='Rozpočet žiadateľa'!J9+'Rozpočet partnera 1'!J9+'Rozpočet partnera 2'!J9 -> 0 | J9: ='Rozpočet žiadateľa'!K9+'Rozpočet partnera 1'!K9+'Rozpočet partnera 2'!K9 -> 0 | K9: ='Rozpočet žiadateľa'!L9+'Rozpočet partnera 1'!L9+'Rozpočet partnera 2'!L9 -> 0 | N9: =SUM(B9:M9) -> 0
A10: Nákup kancelárskych potrieb a pomôcok | B10: ='Rozpočet žiadateľa'!B10+'Rozpočet partnera 1'!B10+'Rozpočet partnera 2'!B10 -> 0 | C10: ='Rozpočet žiadateľa'!C10+'Rozpočet partnera 1'!C10+'Rozpočet partnera 2'!C10 -> 0 | D10: ='Rozpočet žiadateľa'!D10+'Rozpočet partnera 1'!D10+'Rozpočet partnera 2'!D10 -> 0 | E10: ='Rozpočet žiadateľa'!E10+'Rozpočet partnera 1'!E10+'Rozpočet partnera 2'!E10 -> 0 | F10: ='Rozpočet žiadateľa'!F10+'Rozpočet partnera 1'!F10+'Rozpočet partnera 2'!F10 -> 0 | G10: ='Rozpočet žiadateľa'!G10+'Rozpočet partnera 1'!G10+'Rozpočet partnera 2'!G10 -> 0 | H10: ='Rozpočet žiadateľa'!H10+'Rozpočet partnera 1'!H10+'Rozpočet partnera 2'!H10 -> 0 | I10: ='Rozpočet žiadateľa'!J10+'Rozpočet partnera 1'!J10+'Rozpočet partnera 2'!J10 -> 0 | J10: ='Rozpočet žiadateľa'!K10+'Rozpočet partnera 1'!K10+'Rozpočet partnera 2'!K10 -> 0 | K10: ='Rozpočet žiadateľa'!L10+'Rozpočet partnera 1'!L10+'Rozpočet partnera 2'!L10 -> 0 | N10: =SUM(B10:M10) -> 0
A11: Nákup učebných materiálov, pomôcok, publikácií | B11: ='Rozpočet žiadateľa'!B11+'Rozpočet partnera 1'!B11+'Rozpočet partnera 2'!B11 -> 0 | C11: ='Rozpočet žiadateľa'!C11+'Rozpočet partnera 1'!C11+'Rozpočet partnera 2'!C11 -> 0 | D11: ='Rozpočet žiadateľa'!D11+'Rozpočet partnera 1'!D11+'Rozpočet partnera 2'!D11 -> 0 | E11: ='Rozpočet žiadateľa'!E11+'Rozpočet partnera 1'!E11+'Rozpočet partnera 2'!E11 -> 0 | F11: ='Rozpočet žiadateľa'!F11+'Rozpočet partnera 1'!F11+'Rozpočet partnera 2'!F11 -> 0 | G11: ='Rozpočet žiadateľa'!G11+'Rozpočet partnera 1'!G11+'Rozpočet partnera 2'!G11 -> 0 | H11: ='Rozpočet žiadateľa'!H11+'Rozpočet partnera 1'!H11+'Rozpočet partnera 2'!H11 -> 0 | I11: ='Rozpočet žiadateľa'!J11+'Rozpočet partnera 1'!J11+'Rozpočet partnera 2'!J11 -> 0 | J11: ='Rozpočet žiadateľa'!K11+'Rozpočet partnera 1'!K11+'Rozpočet partnera 2'!K11 -> 0 | K11: ='Rozpočet žiadateľa'!L11+'Rozpočet partnera 1'!L11+'Rozpočet partnera 2'!L11 -> 0 | N11: =SUM(B11:M11) -> 0
A12: Vydanie spoločných učebných materiálov, pomôcok, publikácií | B12: ='Rozpočet žiadateľa'!B12+'Rozpočet partnera 1'!B12+'Rozpočet partnera 2'!B12 -> 0 | C12: ='Rozpočet žiadateľa'!C12+'Rozpočet partnera 1'!C12+'Rozpočet partnera 2'!C12 -> 0 | D12: ='Rozpočet žiadateľa'!D12+'Rozpočet partnera 1'!D12+'Rozpočet partnera 2'!D12 -> 0 | E12: ='Rozpočet žiadateľa'!E12+'Rozpočet partnera 1'!E12+'Rozpočet partnera 2'!E12 -> 0 | F12: ='Rozpočet žiadateľa'!F12+'Rozpočet partnera 1'!F12+'Rozpočet partnera 2'!F12 -> 0 | G12: ='Rozpočet žiadateľa'!G12+'Rozpočet partnera 1'!G12+'Rozpočet partnera 2'!G12 -> 0 | H12: ='Rozpočet žiadateľa'!H12+'Rozpočet partnera 1'!H12+'Rozpočet partnera 2'!H12 -> 0 | I12: ='Rozpočet žiadateľa'!J12+'Rozpočet partnera 1'!J12+'Rozpočet partnera 2'!J12 -> 0 | J12: ='Rozpočet žiadateľa'!K12+'Rozpočet partnera 1'!K12+'Rozpočet partnera 2'!K12 -> 0 | K12: ='Rozpočet žiadateľa'!L12+'Rozpočet partnera 1'!L12+'Rozpočet partnera 2'!L12 -> 0 | N12: =SUM(B12:M12) -> 0
A13: Nákup DHM a DNM vrátane technického vybavenia učební | B13: ='Rozpočet žiadateľa'!B13+'Rozpočet partnera 1'!B13+'Rozpočet partnera 2'!B13 -> 0 | C13: ='Rozpočet žiadateľa'!C13+'Rozpočet partnera 1'!C13+'Rozpočet partnera 2'!C13 -> 0 | D13: ='Rozpočet žiadateľa'!D13+'Rozpočet partnera 1'!D13+'Rozpočet partnera 2'!D13 -> 0 | E13: ='Rozpočet žiadateľa'!E13+'Rozpočet partnera 1'!E13+'Rozpočet partnera 2'!E13 -> 0 | F13: ='Rozpočet žiadateľa'!F13+'Rozpočet partnera 1'!F13+'Rozpočet partnera 2'!F13 -> 0 | G13: ='Rozpočet žiadateľa'!G13+'Rozpočet partnera 1'!G13+'Rozpočet partnera 2'!G13 -> 0 | H13: ='Rozpočet žiadateľa'!H13+'Rozpočet partnera 1'!H13+'Rozpočet partnera 2'!H13 -> 0 | I13: ='Rozpočet žiadateľa'!J13+'Rozpočet partnera 1'!J13+'Rozpočet partnera 2'!J13 -> 0 | J13: ='Rozpočet žiadateľa'!K13+'Rozpočet partnera 1'!K13+'Rozpočet partnera 2'!K13 -> 0 | K13: ='Rozpočet žiadateľa'!L13+'Rozpočet partnera 1'!L13+'Rozpočet partnera 2'!L13 -> 0 | N13: =SUM(B13:M13) -> 0
A14: Iné | B14: ='Rozpočet žiadateľa'!B14+'Rozpočet partnera 1'!B14+'Rozpočet partnera 2'!B14 -> 0 | C14: ='Rozpočet žiadateľa'!C14+'Rozpočet partnera 1'!C14+'Rozpočet partnera 2'!C14 -> 0 | D14: ='Rozpočet žiadateľa'!D14+'Rozpočet partnera 1'!D14+'Rozpočet partnera 2'!D14 -> 0 | E14: ='Rozpočet žiadateľa'!E14+'Rozpočet partnera 1'!E14+'Rozpočet partnera 2'!E14 -> 0 | F14: ='Rozpočet žiadateľa'!F14+'Rozpočet partnera 1'!F14+'Rozpočet partnera 2'!F14 -> 0 | G14: ='Rozpočet žiadateľa'!G14+'Rozpočet partnera 1'!G14+'Rozpočet partnera 2'!G14 -> 0 | H14: ='Rozpočet žiadateľa'!H14+'Rozpočet partnera 1'!H14+'Rozpočet partnera 2'!H14 -> 0 | I14: ='Rozpočet žiadateľa'!J14+'Rozpočet partnera 1'!J14+'Rozpočet partnera 2'!J14 -> 0 | J14: ='Rozpočet žiadateľa'!K14+'Rozpočet partnera 1'!K14+'Rozpočet partnera 2'!K14 -> 0 | K14: ='Rozpočet žiadateľa'!L14+'Rozpočet partnera 1'!L14+'Rozpočet partnera 2'!L14 -> 0 | L14: ='Rozpočet žiadateľa'!M14+'Rozpočet partnera 1'!M14+'Rozpočet partnera 2'!M14 -> 0 | M14: ='Rozpočet žiadateľa'!N14+'Rozpočet partnera 1'!N14+'Rozpočet partnera 2'!N14 -> 0 | N14: =SUM(B14:M14) -> 0
A15: SPOLU: | B15: =SUM(B5:B14) -> 0 | C15: =SUM(C5:C14) -> 0 | D15: =SUM(D5:D14) -> 0 | E15: =SUM(E5:E14) -> 0 | F15: =SUM(F5:F14) -> 0 | G15: =SUM(G5:G14) -> 0 | H15: =SUM(H5:H14) -> 0 | I15: =SUM(I5:I14) -> 0 | ... N15: =SUM(N5:N14) -> 0
B17: Riadenie projektu - max. 10% z aktivít projektu
B18: Mzdové výdavky | G18: ='Rozpočet žiadateľa'!G18+'Rozpočet partnera 1'!G18+'Rozpočet partnera 2'!G18 -> 0
B19: Nákup DHM a DNM | G19: ='Rozpočet žiadateľa'!G19+'Rozpočet partnera 1'!G19+'Rozpočet partnera 2'!G19 -> 0
B20: Cestovné náklady a cestovné poistenie | G20: ='Rozpočet žiadateľa'!G20+'Rozpočet partnera 1'!G20+'Rozpočet partnera 2'!G20 -> 0
B21: Denné náhrady/štipendium (ubytovanie, stravné, vedl. výdavky) | G21: ='Rozpočet žiadateľa'!G21+'Rozpočet partnera 1'!G21+'Rozpočet partnera 2'!G21 -> 0
B22: Audit | G22: ='Rozpočet žiadateľa'!G22+'Rozpočet partnera 1'!G22+'Rozpočet partnera 2'!G22 -> 0
B23: Náklady na verejné obstarávanie | G23: ='Rozpočet žiadateľa'!G23+'Rozpočet partnera 1'!G23+'Rozpočet partnera 2'!G23 -> 0
B24: Iné | G24: ='Rozpočet žiadateľa'!G24+'Rozpočet partnera 1'!G24+'Rozpočet partnera 2'!G24 -> 0
B25: SPOLU: | G25: =IF('Rozpočet žiadateľa'!G25>'Rozpočet žiadateľa'!G17,'Rozpočet žiadateľa'!G17,'Rozpočet žiadateľa'!G25)+IF('Rozpočet partnera 1'!G25>'Rozpočet partnera 1'!G17,'Rozpočet partnera 1'!G17,'Rozpočet partnera 1'!G25)+IF('Rozpočet partnera 2'!G25>'Rozpočet partnera 2'!G17,'Rozpočet partnera 2'!G17,'Rozpočet partnera 2'!G25) -> 0
B27: Propagácia projektu - max. 3% z aktivít projektu
B28: Informačné materiály (publikácia, brožúra, leták) | G28: ='Rozpočet žiadateľa'!G28+'Rozpočet partnera 1'!G28+'Rozpočet partnera 2'!G28 -> 0
B29: Webstránka | G29: ='Rozpočet žiadateľa'!G29+'Rozpočet partnera 1'!G29+'Rozpočet partnera 2'!G29 -> 0
B30: Informačné podujatia | G30: ='Rozpočet žiadateľa'!G30+'Rozpočet partnera 1'!G30+'Rozpočet partnera 2'!G30 -> 0
B31: Iné | G31: ='Rozpočet žiadateľa'!G31+'Rozpočet partnera 1'!G31+'Rozpočet partnera 2'!G31 -> 0
B32: SPOLU: | G32: =IF('Rozpočet žiadateľa'!G32>'Rozpočet žiadateľa'!G27,'Rozpočet žiadateľa'!G27,'Rozpočet žiadateľa'!G32)+IF('Rozpočet partnera 1'!G32>'Rozpočet partnera 1'!G27,'Rozpočet partnera 1'!G27,'Rozpočet partnera 1'!G32)+IF('Rozpočet partnera 2'!G32>'Rozpočet partnera 2'!G27,'Rozpočet partnera 2'!G27,'Rozpočet partnera 2'!G32) -> 0
E34: Žiadateľ | F34: Partner 1 | G34: Partner 2 | H34: Spolu
B35: Priame výdavky (aktivity + riadenie + propagácia) | E35: ='Rozpočet žiadateľa'!G34 -> 0 | F35: ='Rozpočet partnera 1'!G34 -> 0 | G35: ='Rozpočet partnera 2'!G34 -> 0 | H35: =SUM(E35:G35) -> 0
B36: Nepriame výdavky - max. 10% z priamych v. | E36: ='Rozpočet žiadateľa'!G35 -> 0 | F36: ='Rozpočet partnera 1'!G35 -> 0 | G36: ='Rozpočet partnera 2'!G35 -> 0 | H36: =IF('Rozpočet žiadateľa'!G35>'Rozpočet žiadateľa'!I35,'Rozpočet žiadateľa'!I35,'Rozpočet žiadateľa'!G35)+IF('Rozpočet partnera 1'!G35>'Rozpočet partnera 1'!I35,'Rozpočet partnera 1'!I35,'Rozpočet partnera 1'!G35)+IF('Rozpočet partnera 2'!G35>'Rozpočet partnera 2'!I35,'Rozpočet partnera 2'!I35,'Rozpočet partnera 2'!G35) -> 0
B37: Celkové oprávnené výdavky žiadateľa | E37: ='Rozpočet žiadateľa'!G36 -> 0 | F37: ='Rozpočet partnera 1'!G36 -> 0 | G37: ='Rozpočet partnera 2'!G36 -> 0 | H37: =SUM(E37:G37) -> 0
B38: Neoprávnené výdavky | E38: ='Rozpočet žiadateľa'!G37 -> 0 | F38: ='Rozpočet partnera 1'!G37 -> 0 | G38: ='Rozpočet partnera 2'!G37 -> 0 | H38: =SUM(E38:G38) -> 0
B39: Celkové výdavky projektu | E39: ='Rozpočet žiadateľa'!G38 -> 0 | F39: ='Rozpočet partnera 1'!G38 -> 0 | G39: ='Rozpočet partnera 2'!G38 -> 0 | H39: =SUM(E39:G39) -> 0

Sheet Summary
E4: EEA Scholarship Programme Slovakia
B6: Project Application Budget
B8: Project name
B9: Applicant
B10: Call | F10: EEA/EHP-SK06-IV-V-01
B12: Summary - copy to Project Application Form
B14: Activitites | G14: =Sumár!G14 -> 0
B15: Project management | G15: =Sumár!G15 -> 0
B16: Publicity | G16: =Sumár!G16 -> 0
B17: Total direct costs | G17: =Sumár!G17 -> 0
B18: Total indirect costs | G18: =Sumár!G18 -> 0
B19: Total eligible expenditures (EE) | G19: =Sumár!G19 -> 0
B20: Ineligible expenditures (IE) | G20: =Sumár!G20 -> 0
B21: Total project costs | G21: =Sumár!G21 -> 0
B22: Proposed project grant (90% EE) | G22: =Sumár!G22 -> 0
B23: Contribution from EEA Grants (85%) | G23: =Sumár!G23 -> 0
B24: Contribution from state budget of SR (15%) | G24: =Sumár!G24 -> 0
B25: Co-financing of the applicant (10% EE + IE) | G25: =Sumár!G25 -> 0

Sheet Budget of applicant
A1: =Summary!F8 -> 0
A2: =Summary!F9 -> 0
A4: Activities | B4: Activity a) | C4: Activity b) | D4: Activity c) | E4: Activity d) | F4: Activity e) | G4: Activity f) | H4: Activity g) | J4: Activity h) | K4: Activity i) | L4: Activity j) | M4: Activity k) | N4: Altivity l) | O4: Total
A5: Personnel costs (wages related to the project implementation) | B5: ='Rozpočet žiadateľa'!B5 -> 0 | C5: ='Rozpočet žiadateľa'!C5:C5 -> 0 | D5: ='Rozpočet žiadateľa'!D5 -> 0 | E5: ='Rozpočet žiadateľa'!E5 -> 0 | F5: ='Rozpočet žiadateľa'!F5 -> 0 | G5: ='Rozpočet žiadateľa'!G5 -> 0 | H5: ='Rozpočet žiadateľa'!H5 -> 0 | J5: ='Rozpočet žiadateľa'!J5 -> 0 | K5: ='Rozpočet žiadateľa'!K5 -> 0 | L5: ='Rozpočet žiadateľa'!L5 -> 0 | O5: =SUM(B5:N5) -> 0
A6: Travel expenditures + travel insurance | B6: ='Rozpočet žiadateľa'!B6 -> 0 | C6: ='Rozpočet žiadateľa'!C6:C6 -> 0 | D6: ='Rozpočet žiadateľa'!D6 -> 0 | E6: ='Rozpočet žiadateľa'!E6 -> 0 | F6: ='Rozpočet žiadateľa'!F6 -> 0 | G6: ='Rozpočet žiadateľa'!G6 -> 0 | H6: ='Rozpočet žiadateľa'!H6 -> 0 | J6: ='Rozpočet žiadateľa'!J6 -> 0 | K6: ='Rozpočet žiadateľa'!K6 -> 0 | L6: ='Rozpočet žiadateľa'!L6 -> 0 | M6: ='Rozpočet žiadateľa'!M6 -> 0 | N6: ='Rozpočet žiadateľa'!N6 -> 0 | O6: =SUM(B6:N6) -> 0
A7: Daily allowances/scholarships (accommodation, board, necessary additional costs) | B7: ='Rozpočet žiadateľa'!B7 -> 0 | C7: ='Rozpočet žiadateľa'!C7:C7 -> 0 | D7: ='Rozpočet žiadateľa'!D7 -> 0 | E7: ='Rozpočet žiadateľa'!E7 -> 0 | F7: ='Rozpočet žiadateľa'!F7 -> 0 | G7: ='Rozpočet žiadateľa'!G7 -> 0 | H7: ='Rozpočet žiadateľa'!H7 -> 0 | J7: ='Rozpočet žiadateľa'!J7 -> 0 | K7: ='Rozpočet žiadateľa'!K7 -> 0 | L7: ='Rozpočet žiadateľa'!L7 -> 0 | M7: ='Rozpočet žiadateľa'!M7 -> 0 | N7: ='Rozpočet žiadateľa'!N7 -> 0 | O7: =SUM(B7:N7) -> 0
A8: Refreshment | B8: ='Rozpočet žiadateľa'!B8 -> 0 | C8: ='Rozpočet žiadateľa'!C8:C8 -> 0 | D8: ='Rozpočet žiadateľa'!D8 -> 0 | E8: ='Rozpočet žiadateľa'!E8 -> 0 | F8: ='Rozpočet žiadateľa'!F8 -> 0 | G8: ='Rozpočet žiadateľa'!G8 -> 0 | H8: ='Rozpočet žiadateľa'!H8 -> 0 | J8: ='Rozpočet žiadateľa'!J8 -> 0 | K8: ='Rozpočet žiadateľa'!K8 -> 0 | L8: ='Rozpočet žiadateľa'!L8 -> 0 | O8: =SUM(B8:N8) -> 0
A9: Rental of conference premises and classrooms | B9: ='Rozpočet žiadateľa'!B9 -> 0 | C9: ='Rozpočet žiadateľa'!C9:C9 -> 0 | D9: ='Rozpočet žiadateľa'!D9 -> 0 | E9: ='Rozpočet žiadateľa'!E9 -> 0 | F9: ='Rozpočet žiadateľa'!F9 -> 0 | G9: ='Rozpočet žiadateľa'!G9 -> 0 | H9: ='Rozpočet žiadateľa'!H9 -> 0 | J9: ='Rozpočet žiadateľa'!J9 -> 0 | K9: ='Rozpočet žiadateľa'!K9 -> 0 | L9: ='Rozpočet žiadateľa'!L9 -> 0 | O9: =SUM(B9:N9) -> 0
A10: Purchase of office supplies and aids | B10: ='Rozpočet žiadateľa'!B10 -> 0 | C10: ='Rozpočet žiadateľa'!C10:C10 -> 0 | D10: ='Rozpočet žiadateľa'!D10 -> 0 | E10: ='Rozpočet žiadateľa'!E10 -> 0 | F10: ='Rozpočet žiadateľa'!F10 -> 0 | G10: ='Rozpočet žiadateľa'!G10 -> 0 | H10: ='Rozpočet žiadateľa'!H10 -> 0 | J10: ='Rozpočet žiadateľa'!J10 -> 0 | K10: ='Rozpočet žiadateľa'!K10 -> 0 | L10: ='Rozpočet žiadateľa'!L10 -> 0 | O10: =SUM(B10:N10) -> 0
A11: Purchase of study materials, aids, publications | B11: ='Rozpočet žiadateľa'!B11 -> 0 | C11: ='Rozpočet žiadateľa'!C11:C11 -> 0 | D11: ='Rozpočet žiadateľa'!D11 -> 0 | E11: ='Rozpočet žiadateľa'!E11 -> 0 | F11: ='Rozpočet žiadateľa'!F11 -> 0 | G11: ='Rozpočet žiadateľa'!G11 -> 0 | H11: ='Rozpočet žiadateľa'!H11 -> 0 | J11: ='Rozpočet žiadateľa'!J11 -> 0 | K11: ='Rozpočet žiadateľa'!K11 -> 0 | L11: ='Rozpočet žiadateľa'!L11 -> 0 | O11: =SUM(B11:N11) -> 0
A12: Publishing of common study materials, aids, publications | B12: ='Rozpočet žiadateľa'!B12 -> 0 | C12: ='Rozpočet žiadateľa'!C12:C12 -> 0 | D12: ='Rozpočet žiadateľa'!D12 -> 0 | E12: ='Rozpočet žiadateľa'!E12 -> 0 | F12: ='Rozpočet žiadateľa'!F12 -> 0 | G12: ='Rozpočet žiadateľa'!G12 -> 0 | H12: ='Rozpočet žiadateľa'!H12 -> 0 | J12: ='Rozpočet žiadateľa'!J12 -> 0 | K12: ='Rozpočet žiadateľa'!K12 -> 0 | L12: ='Rozpočet žiadateľa'!L12 -> 0 | O12: =SUM(B12:N12) -> 0
A13: Purchase of low-value tangible assets and low-value intangible assets including technical equipment of classrooms | B13: ='Rozpočet žiadateľa'!B13 -> 0 | C13: ='Rozpočet žiadateľa'!C13:C13 -> 0 | D13: ='Rozpočet žiadateľa'!D13 -> 0 | E13: ='Rozpočet žiadateľa'!E13 -> 0 | F13: ='Rozpočet žiadateľa'!F13 -> 0 | G13: ='Rozpočet žiadateľa'!G13 -> 0 | H13: ='Rozpočet žiadateľa'!H13 -> 0 | J13: ='Rozpočet žiadateľa'!J13 -> 0 | K13: ='Rozpočet žiadateľa'!K13 -> 0 | L13: ='Rozpočet žiadateľa'!L13 -> 0 | O13: =SUM(B13:N13) -> 0
A14: Other | B14: ='Rozpočet žiadateľa'!B14 -> 0 | C14: ='Rozpočet žiadateľa'!C14:C14 -> 0 | D14: ='Rozpočet žiadateľa'!D14 -> 0 | E14: ='Rozpočet žiadateľa'!E14 -> 0 | F14: ='Rozpočet žiadateľa'!F14 -> 0 | G14: ='Rozpočet žiadateľa'!G14 -> 0 | H14: ='Rozpočet žiadateľa'!H14 -> 0 | J14: ='Rozpočet žiadateľa'!J14 -> 0 | K14: ='Rozpočet žiadateľa'!K14 -> 0 | L14: ='Rozpočet žiadateľa'!L14 -> 0 | M14: ='Rozpočet žiadateľa'!M14 -> 0 | N14: ='Rozpočet žiadateľa'!N14 -> 0 | O14: =SUM(B14:N14) -> 0
A15: TOTAL: | B15: =SUM(B5:B14) -> 0 | C15: =SUM(C5:C14) -> 0 | D15: =SUM(D5:D14) -> 0 | E15: =SUM(E5:E14) -> 0 | F15: =SUM(F5:F14) -> 0 | G15: =SUM(G5:G14) -> 0 | H15: =SUM(H5:H14) -> 0 | J15: =SUM(J5:J14) -> 0 | K15: =SUM(K5:K14) -> 0 | L15: =SUM(L5:L14) -> 0 | M15: =SUM(M5:M14) -> 0 | N15: =SUM(N5:N14) -> 0 | O15: =SUM(O5:O14) -> 0
B17: Project management - max. 10% of Activities, up to | C17: Project management - max. 10% of Activities, up to | D17: Project management - max. 10% of Activities, up to | E17: Project management - max. 10% of Activities, up to | F17: Project management - max. 10% of Activities, up to | G17: ='Rozpočet žiadateľa'!G17 -> 0
B18: Cost of staff (wages related to the project implementation) | C18: Cost of staff (wages related to the project implementation) | D18: Cost of staff (wages related to the project implementation) | E18: Cost of staff (wages related to the project implementation) | F18: Cost of staff (wages related to the project implementation) | G18: ='Rozpočet žiadateľa'!G18 -> 0
B19: Purchase of low-value tangible assets and low-value intangible assets | C19: Purchase of low-value tangible assets and low-value intangible assets | D19: Purchase of low-value tangible assets and low-value intangible assets | E19: Purchase of low-value tangible assets and low-value intangible assets | F19: Purchase of low-value tangible assets and low-value intangible assets | G19: ='Rozpočet žiadateľa'!G19 -> 0
B20: Travel expenses, accommodation, meals | C20: Travel expenses, accommodation, meals | D20: Travel expenses, accommodation, meals | E20: Travel expenses, accommodation, meals | F20: Travel expenses, accommodation, meals | G20: ='Rozpočet žiadateľa'!G20 -> 0
B21: Daily allowances/scholarships | G21: ='Rozpočet žiadateľa'!G21 -> 0
B22: Project audit | C22: Project audit | D22: Project audit | E22: Project audit | F22: Project audit | G22: ='Rozpočet žiadateľa'!G22 -> 0
B23: Expenses on public procurement | C23: Expenses on public procurement | D23: Expenses on public procurement | E23: Expenses on public procurement | F23: Expenses on public procurement | G23: ='Rozpočet žiadateľa'!G23 -> 0
B24: Other | C24: Other | D24: Other | E24: Other | F24: Other | G24: ='Rozpočet žiadateľa'!G24 -> 0
B25: TOTAL: | C25: TOTAL: | D25: TOTAL: | E25: TOTAL: | F25: TOTAL: | G25: =SUM(G18:G24) -> 0
B27: Publicity - max. 3% of Activities, up to | C27: Publicity - max. 3% of Activities, up to | D27: Publicity - max. 3% of Activities, up to | E27: Publicity - max. 3% of Activities, up to | F27: Publicity - max. 3% of Activities, up to | G27: =IF($P$15>100000/0.9,100000/0.9,$P$15)*0.03 -> 0
B28: Information materials (publcation, brochure, leaflet) | C28: Information materials (publcation, brochure, leaflet) | D28: Information materials (publcation, brochure, leaflet) | E28: Information materials (publcation, brochure, leaflet) | F28: Information materials (publcation, brochure, leaflet) | G28: ='Rozpočet žiadateľa'!G28 -> 0
B29: Webpage | C29: Webpage | D29: Webpage | E29: Webpage | F29: Webpage | G29: ='Rozpočet žiadateľa'!G29 -> 0
B30: Information seminars | C30: Information seminars | D30: Information seminars | E30: Information seminars | F30: Information seminars | G30: ='Rozpočet žiadateľa'!G30 -> 0
B31: Other | C31: Other | D31: Other | E31: Other | F31: Other | G31: ='Rozpočet žiadateľa'!G31 -> 0
B32: TOTAL: | C32: TOTAL: | D32: TOTAL: | E32: TOTAL: | F32: TOTAL: | G32: =SUM(G28:G31) -> 0
B34: Direct costs (Activities + Programme management + Publicity) | C34: Direct costs (Activities + Programme management + Publicity) | D34: Direct costs (Activities + Programme management + Publicity) | E34: Direct costs (Activities + Programme management + Publicity) | F34: Direct costs (Activities + Programme management + Publicity) | G34: =IF(IF(O15>100000/0.9,100000/0.9,O15)+IF(G25>G17,G17,G25)+IF(G32>G27,G27,G32)>100000/0.9,100000/0.9,IF(O15>100000/0.9,100000/0.9,O15)+IF(G25>G17,G17,G25)+IF(G32>G27,G27,G32)) -> 0
B35: Indirect costs - max. 10% of direct costs | C35: Indirect costs - max. 10% of direct costs | D35: Indirect costs - max. 10% of direct costs | E35: Indirect costs - max. 10% of direct costs | F35: Indirect costs - max. 10% of direct costs | G35: ='Rozpočet žiadateľa'!G35 -> 0 | H35: max. | I35: =G34*0.1 -> 0
B36: Total eligible expenditures | C36: Total eligible expenditures | D36: Total eligible expenditures | E36: Total eligible expenditures | F36: Total eligible expenditures | G36: =IF(G34+G35>100000/0.9,100000/0.9,G34+G35) -> 0
B37: Ineligible expenditures | C37: Ineligible expenditures | D37: Ineligible expenditures | E37: Ineligible expenditures | F37: Ineligible expenditures | G37: =IF(G25>G17,G25-G17,0)+IF(G32>G27,G32-G27,0)+IF(O15>100000/0.9,O15-100000/0.9,0)+IF(G34+G35>100000/0.9,G34+G35-100000/0.9,0)+IF(G35>O15,G35-O15,0)+IF(O15+G25+G32>100000/0.9,O15+G25+G32-100000/0.9,0) -> 0
B38: Total costs of applicant | C38: Total costs of applicant | D38: Total costs of applicant | E38: Total costs of applicant | F38: Total costs of applicant | G38: =G36+G37 -> 0

Sheet Budget of partner 1
A1: =Summary!F8 -> 0
A2: Name of partner 1
A4: Activities | B4: Activity a) | C4: Activity b) | D4: Activity c) | E4: Activity d) | F4: Activity e) | G4: Activity f) | H4: Activity g) | J4: Activity h) | K4: Activity i) | L4: Activity j) | M4: Activity k) | N4: Altivity l) | O4: Total
A5: Personnel costs (wages related to the project implementation) | O5: =SUM(B5:N5) -> 0
A6: Travel expenditures + travel insurance | O6: =SUM(B6:N6) -> 0
A7: Daily allowances/scholarships (accommodation, board, necessary additional costs) | O7: =SUM(B7:N7) -> 0
A8: Refreshment | O8: =SUM(B8:N8) -> 0
A9: Rental of conference premises and classrooms | O9: =SUM(B9:N9) -> 0
A10: Purchase of office supplies and aids | O10: =SUM(B10:N10) -> 0
A11: Purchase of study materials, aids, publications | O11: =SUM(B11:N11) -> 0
A12: Publishing of common study materials, aids, publications | O12: =SUM(B12:N12) -> 0
A13: Purchase of low-value tangible assets and low-value intangible assets including technical equipment of classrooms | O13: =SUM(B13:N13) -> 0
A14: Other | O14: =SUM(B14:N14) -> 0
A15: TOTAL: | B15: =SUM(B5:B14) -> 0 | C15: =SUM(C5:C14) -> 0 | D15: =SUM(D5:D14) -> 0 | E15: =SUM(E5:E14) -> 0 | F15: =SUM(F5:F14) -> 0 | G15: =SUM(G5:G14) -> 0 | H15: =SUM(H5:H14) -> 0 | J15: =SUM(J5:J14) -> 0 | K15: =SUM(K5:K14) -> 0 | L15: =SUM(L5:L14) -> 0 | M15: =SUM(M5:M14) -> 0 | N15: =SUM(N5:N14) -> 0 | O15: =SUM(O5:O14) -> 0
B17: Project management - max. 10% of Activities, up to | C17: Project management - max. 10% of Activities, up to | D17: Project management - max. 10% of Activities, up to | E17: Project management - max. 10% of Activities, up to | F17: Project management - max. 10% of Activities, up to | G17: =IF($O$15>100000/0.9,100000/0.9,$O$15)*0.1 -> 0
B18: Cost of staff (wages related to the project implementation) | C18: Cost of staff (wages related to the project implementation) | D18: Cost of staff (wages related to the project implementation) | E18: Cost of staff (wages related to the project implementation) | F18: Cost of staff (wages related to the project implementation)
B19: Purchase of low-value tangible assets and low-value intangible assets | C19: Purchase of low-value tangible assets and low-value intangible assets | D19: Purchase of low-value tangible assets and low-value intangible assets | E19: Purchase of low-value tangible assets and low-value intangible assets | F19: Purchase of low-value tangible assets and low-value intangible assets
B20: Travel expenses, accommodation, meals | C20: Travel expenses, accommodation, meals | D20: Travel expenses, accommodation, meals | E20: Travel expenses, accommodation, meals | F20: Travel expenses, accommodation, meals
B21: Daily allowances/scholarships
B22: Project audit | C22: Project audit | D22: Project audit | E22: Project audit | F22: Project audit
B23: Expenses on public procurement | C23: Expenses on public procurement | D23: Expenses on public procurement | E23: Expenses on public procurement | F23: Expenses on public procurement
B24: Other | C24: Other | D24: Other | E24: Other | F24: Other
B25: TOTAL: | C25: TOTAL: | D25: TOTAL: | E25: TOTAL: | F25: TOTAL: | G25: =SUM(G18:G24) -> 0
B27: Publicity - max. 3% of Activities, up to | C27: Publicity - max. 3% of Activities, up to | D27: Publicity - max. 3% of Activities, up to | E27: Publicity - max. 3% of Activities, up to | F27: Publicity - max. 3% of Activities, up to | G27: =IF($O$15>100000/0.9,100000/0.9,$O$15)*0.03 -> 0
B28: Information materials (publcation, brochure, leaflet) | C28: Information materials (publcation, brochure, leaflet) | D28: Information materials (publcation, brochure, leaflet) | E28: Information materials (publcation, brochure, leaflet) | F28: Information materials (publcation, brochure, leaflet)
B29: Webpage | C29: Webpage | D29: Webpage | E29: Webpage | F29: Webpage
B30: Information seminars | C30: Information seminars | D30: Information seminars | E30: Information seminars | F30: Information seminars
B31: Other | C31: Other | D31: Other | E31: Other | F31: Other
B32: TOTAL: | C32: TOTAL: | D32: TOTAL: | E32: TOTAL: | F32: TOTAL: | G32: =SUM(G28:G31) -> 0
B34: Direct costs (Activities + Programme management + Publicity) | C34: Direct costs (Activities + Programme management + Publicity) | D34: Direct costs (Activities + Programme management + Publicity) | E34: Direct costs (Activities + Programme management + Publicity) | F34: Direct costs (Activities + Programme management + Publicity) | G34: =IF(IF(O15>100000/0.9,100000/0.9,O15)+IF(G25>G17,G17,G25)+IF(G32>G27,G27,G32)>100000/0.9,100000/0.9,IF(O15>100000/0.9,100000/0.9,O15)+IF(G25>G17,G17,G25)+IF(G32>G27,G27,G32)) -> 0
B35: Indirect costs - max. 10% of direct costs | C35: Indirect costs - max. 10% of direct costs | D35: Indirect costs - max. 10% of direct costs | E35: Indirect costs - max. 10% of direct costs | F35: Indirect costs - max. 10% of direct costs | H35: max. | I35: =G34*0.1 -> 0
B36: Total eligible expenditures | C36: Total eligible expenditures | D36: Total eligible expenditures | E36: Total eligible expenditures | F36: Total eligible expenditures | G36: =IF(G34+IF(G35>I35,I35,G35)>100000/0.9,100000/0.9,G34+IF(G35>I35,I35,G35)) -> 0
B37: Ineligible expenditures | C37: Ineligible expenditures | D37: Ineligible expenditures | E37: Ineligible expenditures | F37: Ineligible expenditures | G37: =IF(G25>G17,G25-G17,0)+IF(G32>G27,G32-G27,0)+IF(O15>100000/0.9,O15-100000/0.9,0)+IF(G34+G35>100000/0.9,G34+G35-100000/0.9,0)+IF(G35>I35,G35-I35,0)+IF(O15+G25+G32>100000/0.9,O15+G25+G32-100000/0.9,0) -> 0
B38: Total costs of partner 1 | C38: Total costs of applicant | D38: Total costs of applicant | E38: Total costs of applicant | F38: Total costs of applicant | G38: =G36+G37 -> 0

Sheet Budget of partner 2
A1: =Summary!F8 -> 0
A2: Name of partner 2
A4: Activities | B4: Activity a) | C4: Activity b) | D4: Activity c) | E4: Activity d) | F4: Activity e) | G4: Activity f) | H4: Activity g) | J4: Activity h) | K4: Activity i) | L4: Activity j) | M4: Activity k) | N4: Altivity l) | O4: Total
A5: Personnel costs (wages related to the project implementation) | O5: =SUM(B5:N5) -> 0
A6: Travel expenditures + travel insurance | O6: =SUM(B6:N6) -> 0
A7: Daily allowances/scholarships (accommodation, board, necessary additional costs) | O7: =SUM(B7:N7) -> 0
A8: Refreshment | O8: =SUM(B8:N8) -> 0
A9: Rental of conference premises and classrooms | O9: =SUM(B9:N9) -> 0
A10: Purchase of office supplies and aids | O10: =SUM(B10:N10) -> 0
A11: Purchase of study materials, aids, publications | O11: =SUM(B11:N11) -> 0
A12: Publishing of common study materials, aids, publications | O12: =SUM(B12:N12) -> 0
A13: Purchase of low-value tangible assets and low-value intangible assets including technical equipment of classrooms | O13: =SUM(B13:N13) -> 0
A14: Other | O14: =SUM(B14:N14) -> 0
A15: TOTAL: | B15: =SUM(B5:B14) -> 0 | C15: =SUM(C5:C14) -> 0 | D15: =SUM(D5:D14) -> 0 | E15: =SUM(E5:E14) -> 0 | F15: =SUM(F5:F14) -> 0 | G15: =SUM(G5:G14) -> 0 | H15: =SUM(H5:H14) -> 0 | J15: =SUM(J5:J14) -> 0 | K15: =SUM(K5:K14) -> 0 | L15: =SUM(L5:L14) -> 0 | M15: =SUM(M5:M14) -> 0 | N15: =SUM(N5:N14) -> 0 | O15: =SUM(O5:O14) -> 0
B17: Project management - max. 10% of Activities, up to | C17: Project management - max. 10% of Activities, up to | D17: Project management - max. 10% of Activities, up to | E17: Project management - max. 10% of Activities, up to | F17: Project management - max. 10% of Activities, up to | G17: =IF($O$15>100000/0.9,100000/0.9,$O$15)*0.1 -> 0
B18: Cost of staff (wages related to the project implementation) | C18: Cost of staff (wages related to the project implementation) | D18: Cost of staff (wages related to the project implementation) | E18: Cost of staff (wages related to the project implementation) | F18: Cost of staff (wages related to the project implementation)
B19: Purchase of low-value tangible assets and low-value intangible assets | C19: Purchase of low-value tangible assets and low-value intangible assets | D19: Purchase of low-value tangible assets and low-value intangible assets | E19: Purchase of low-value tangible assets and low-value intangible assets | F19: Purchase of low-value tangible assets and low-value intangible assets
B20: Travel expenses, accommodation, meals | C20: Travel expenses, accommodation, meals | D20: Travel expenses, accommodation, meals | E20: Travel expenses, accommodation, meals | F20: Travel expenses, accommodation, meals
B21: Daily allowances/scholarships
B22: Project audit | C22: Project audit | D22: Project audit | E22: Project audit | F22: Project audit
B23: Expenses on public procurement | C23: Expenses on public procurement | D23: Expenses on public procurement | E23: Expenses on public procurement | F23: Expenses on public procurement
B24: Other | C24: Other | D24: Other | E24: Other | F24: Other
B25: TOTAL: | C25: TOTAL: | D25: TOTAL: | E25: TOTAL: | F25: TOTAL: | G25: =SUM(G18:G24) -> 0
B27: Publicity - max. 3% of Activities, up to | C27: Publicity - max. 3% of Activities, up to | D27: Publicity - max. 3% of Activities, up to | E27: Publicity - max. 3% of Activities, up to | F27: Publicity - max. 3% of Activities, up to | G27: =IF($O$15>100000/0.9,100000/0.9,$O$15)*0.03 -> 0
B28: Information materials (publcation, brochure, leaflet) | C28: Information materials (publcation, brochure, leaflet) | D28: Information materials (publcation, brochure, leaflet) | E28: Information materials (publcation, brochure, leaflet) | F28: Information materials (publcation, brochure, leaflet)
B29: Webpage | C29: Webpage | D29: Webpage | E29: Webpage | F29: Webpage
B30: Information seminars | C30: Information seminars | D30: Information seminars | E30: Information seminars | F30: Information seminars
B31: Other | C31: Other | D31: Other | E31: Other | F31: Other
B32: TOTAL: | C32: TOTAL: | D32: TOTAL: | E32: TOTAL: | F32: TOTAL: | G32: =SUM(G28:G31) -> 0
B34: Direct costs (Activities + Programme management + Publicity) | C34: Direct costs (Activities + Programme management + Publicity) | D34: Direct costs (Activities + Programme management + Publicity) | E34: Direct costs (Activities + Programme management + Publicity) | F34: Direct costs (Activities + Programme management + Publicity) | G34: =IF(IF(O15>100000/0.9,100000/0.9,O15)+IF(G25>G17,G17,G25)+IF(G32>G27,G27,G32)>100000/0.9,100000/0.9,IF(O15>100000/0.9,100000/0.9,O15)+IF(G25>G17,G17,G25)+IF(G32>G27,G27,G32)) -> 0
B35: Indirect costs - max. 10% of direct costs | C35: Indirect costs - max. 10% of direct costs | D35: Indirect costs - max. 10% of direct costs | E35: Indirect costs - max. 10% of direct costs | F35: Indirect costs - max. 10% of direct costs | H35: max. | I35: =G34*0.1 -> 0
B36: Total eligible expenditures | C36: Total eligible expenditures | D36: Total eligible expenditures | E36: Total eligible expenditures | F36: Total eligible expenditures | G36: =IF(G34+IF(G35>I35,I35,G35)>100000/0.9,100000/0.9,G34+IF(G35>I35,I35,G35)) -> 0
B37: Ineligible expenditures | C37: Ineligible expenditures | D37: Ineligible expenditures | E37: Ineligible expenditures | F37: Ineligible expenditures | G37: =IF(G25>G17,G25-G17,0)+IF(G32>G27,G32-G27,0)+IF(O15>100000/0.9,O15-100000/0.9,0)+IF(G34+G35>100000/0.9,G34+G35-100000/0.9,0)+IF(G35>I35,G35-I35,0)+IF(O15+G25+G32>100000/0.9,O15+G25+G32-100000/0.9,0) -> 0
B38: Total costs of partner 2 | C38: Total costs of applicant | D38: Total costs of applicant | E38: Total costs of applicant | F38: Total costs of applicant | G38: =G36+G37 -> 0

Sheet Detailed summary
A1: =Summary!F8 -> 0
A2: =Summary!F9 -> 0
A4: Activities | B4: Activity a) | C4: Activity b) | D4: Activity c) | E4: Activity d) | F4: Activity e) | G4: Activity f) | H4: Activity g) | I4: Activity h) | J4: Activity i) | K4: Activity j) | L4: Activity k) | M4: Activity l) | N4: Total
A5: Personnel costs (wages related to the project implementation) | B5: ='Budget of applicant'!B5+'Budget of partner 1'!B5+'Budget of partner 2'!B5 -> 0 | C5: ='Budget of applicant'!C5:C5+'Budget of partner 1'!C5:C5+'Budget of partner 2'!C5:C5 -> 0 | D5: ='Budget of applicant'!D5+'Budget of partner 1'!D5+'Budget of partner 2'!D5 -> 0 | E5: ='Budget of applicant'!E5+'Budget of partner 1'!E5+'Budget of partner 2'!E5 -> 0 | F5: ='Budget of applicant'!F5+'Budget of partner 1'!F5+'Budget of partner 2'!F5 -> 0 | G5: ='Budget of applicant'!G5+'Budget of partner 1'!G5+'Budget of partner 2'!G5 -> 0 | H5: ='Budget of applicant'!H5+'Budget of partner 1'!H5+'Budget of partner 2'!H5 -> 0 | I5: ='Budget of applicant'!J5+'Budget of partner 1'!J5+'Budget of partner 2'!J5 -> 0 | J5: ='Budget of applicant'!K5+'Budget of partner 1'!K5+'Budget of partner 2'!K5 -> 0 | K5: ='Budget of applicant'!L5+'Budget of partner 1'!L5+'Budget of partner 2'!L5 -> 0 | N5: =SUM(B5:M5) -> 0
A6: Travel expenditures + travel insurance | B6: ='Budget of applicant'!B6+'Budget of partner 1'!B6+'Budget of partner 2'!B6 -> 0 | C6: ='Budget of applicant'!C6:C6+'Budget of partner 1'!C6:C6+'Budget of partner 2'!C6:C6 -> 0 | D6: ='Budget of applicant'!D6+'Budget of partner 1'!D6+'Budget of partner 2'!D6 -> 0 | E6: ='Budget of applicant'!E6+'Budget of partner 1'!E6+'Budget of partner 2'!E6 -> 0 | F6: ='Budget of applicant'!F6+'Budget of partner 1'!F6+'Budget of partner 2'!F6 -> 0 | G6: ='Budget of applicant'!G6+'Budget of partner 1'!G6+'Budget of partner 2'!G6 -> 0 | H6: ='Budget of applicant'!H6+'Budget of partner 1'!H6+'Budget of partner 2'!H6 -> 0 | I6: ='Budget of applicant'!J6+'Budget of partner 1'!J6+'Budget of partner 2'!J6 -> 0 | J6: ='Budget of applicant'!K6+'Budget of partner 1'!K6+'Budget of partner 2'!K6 -> 0 | K6: ='Budget of applicant'!L6+'Budget of partner 1'!L6+'Budget of partner 2'!L6 -> 0 | L6: ='Budget of applicant'!M6+'Budget of partner 1'!M6+'Budget of partner 2'!M6 -> 0 | M6: ='Budget of applicant'!N6+'Budget of partner 1'!N6+'Budget of partner 2'!N6 -> 0 | N6: =SUM(B6:M6) -> 0
A7: Daily allowances/scholarships | B7: ='Budget of applicant'!B7+'Budget of partner 1'!B7+'Budget of partner 2'!B7 -> 0 | C7: ='Budget of applicant'!C7:C7+'Budget of partner 1'!C7:C7+'Budget of partner 2'!C7:C7 -> 0 | D7: ='Budget of applicant'!D7+'Budget of partner 1'!D7+'Budget of partner 2'!D7 -> 0 | E7: ='Budget of applicant'!E7+'Budget of partner 1'!E7+'Budget of partner 2'!E7 -> 0 | F7: ='Budget of applicant'!F7+'Budget of partner 1'!F7+'Budget of partner 2'!F7 -> 0 | G7: ='Budget of applicant'!G7+'Budget of partner 1'!G7+'Budget of partner 2'!G7 -> 0 | H7: ='Budget of applicant'!H7+'Budget of partner 1'!H7+'Budget of partner 2'!H7 -> 0 | I7: ='Budget of applicant'!J7+'Budget of partner 1'!J7+'Budget of partner 2'!J7 -> 0 | J7: ='Budget of applicant'!K7+'Budget of partner 1'!K7+'Budget of partner 2'!K7 -> 0 | K7: ='Budget of applicant'!L7+'Budget of partner 1'!L7+'Budget of partner 2'!L7 -> 0 | L7: ='Budget of applicant'!M7+'Budget of partner 1'!M7+'Budget of partner 2'!M7 -> 0 | M7: ='Budget of applicant'!N7+'Budget of partner 1'!N7+'Budget of partner 2'!N7 -> 0 | N7: =SUM(B7:M7) -> 0
A8: Refreshment | B8: ='Budget of applicant'!B8+'Budget of partner 1'!B8+'Budget of partner 2'!B8 -> 0 | C8: ='Budget of applicant'!C8:C8+'Budget of partner 1'!C8:C8+'Budget of partner 2'!C8:C8 -> 0 | D8: ='Budget of applicant'!D8+'Budget of partner 1'!D8+'Budget of partner 2'!D8 -> 0 | E8: ='Budget of applicant'!E8+'Budget of partner 1'!E8+'Budget of partner 2'!E8 -> 0 | F8: ='Budget of applicant'!F8+'Budget of partner 1'!F8+'Budget of partner 2'!F8 -> 0 | G8: ='Budget of applicant'!G8+'Budget of partner 1'!G8+'Budget of partner 2'!G8 -> 0 | H8: ='Budget of applicant'!H8+'Budget of partner 1'!H8+'Budget of partner 2'!H8 -> 0 | I8: ='Budget of applicant'!J8+'Budget of partner 1'!J8+'Budget of partner 2'!J8 -> 0 | J8: ='Budget of applicant'!K8+'Budget of partner 1'!K8+'Budget of partner 2'!K8 -> 0 | K8: ='Budget of applicant'!L8+'Budget of partner 1'!L8+'Budget of partner 2'!L8 -> 0 | N8: =SUM(B8:M8) -> 0
